BEGIN:VCALENDAR
PRODID:-//eluceo/ical//2.0/EN
VERSION:2.0
CALSCALE:GREGORIAN
BEGIN:VEVENT
UID:de7ed53c502c53366e879d7afff08d90
DTSTAMP:20260420T085024Z
SUMMARY:Monatsmeeting August 2025 - Park im Grünen - Grün 80 / Minigolf
DESCRIPTION:Webseite: https://www.parkimgruenen.ch/gruen80.html\nReferenten
 /innen: \nBogna Storck und Claudia Thommen haben für diesen sommerlichen 
 Anlass ein Minigolf-Spiel in der Grün 80 - Park im Grünen organisiert. 
URL:https://iwcl.ch/de/agenda/show/8036
DTSTART;TZID=Europe/Zurich:20250827T180000
DTEND;TZID=Europe/Zurich:20250827T223000
LOCATION:Park im Grünen - Grün 80\, Rainstrasse 6\, 4142 Münchenstein
CATEGORIES:Inner Wheel
END:VEVENT
BEGIN:VTIMEZONE
TZID:Europe/Zurich
BEGIN:DAYLIGHT
DTSTART:20250827T180000
TZNAME:CEST
TZOFFSETTO:+0200
TZOFFSETFROM:+0200
END:DAYLIGHT
END:VTIMEZONE
END:VCALENDAR
