BEGIN:VCALENDAR
PRODID:-//eluceo/ical//2.0/EN
VERSION:2.0
CALSCALE:GREGORIAN
BEGIN:VEVENT
UID:7faca0999a053215c4bf631931798b17
DTSTAMP:20260420T222605Z
SUMMARY:Monatsmeeting Dezember 2021 - Weihnachtsfeier
DESCRIPTION:Relatore/i: Wir treffen uns um 18:00 Uhr vor dem Dom zu Arleshe
 im.Nach einer kurzen Dom-Führung geniessen wir eine Vorführung der weltb
 ekannten Silbermann-Orgel. Anschliessend spazieren wir zum Restaurant zum 
 weihnächtlichen Nachtessen. Parkieren:    am besten\, Nähe Dorfplatz 
 Arlesheim.
URL:https://iwcl.ch/it/agenda/show/4757
DTSTART;TZID=Europe/Zurich:20211215T180000
DTEND;TZID=Europe/Zurich:20211215T230000
LOCATION:Domplatz 16\, Arlesheim
CATEGORIES:Inner Wheel
END:VEVENT
BEGIN:VTIMEZONE
TZID:Europe/Zurich
BEGIN:STANDARD
DTSTART:20211215T180000
TZNAME:CET
TZOFFSETTO:+0100
TZOFFSETFROM:+0100
END:STANDARD
END:VTIMEZONE
END:VCALENDAR
